BEGIN:VCALENDAR
VERSION:2.0
PRODID:-//Der BOTTcast - ECPv6.15.20//NONSGML v1.0//EN
CALSCALE:GREGORIAN
METHOD:PUBLISH
X-WR-CALNAME:Der BOTTcast
X-ORIGINAL-URL:https://www.der-bottcast.de
X-WR-CALDESC:Veranstaltungen für Der BOTTcast
REFRESH-INTERVAL;VALUE=DURATION:PT1H
X-Robots-Tag:noindex
X-PUBLISHED-TTL:PT1H
BEGIN:VTIMEZONE
TZID:Europe/Berlin
BEGIN:DAYLIGHT
TZOFFSETFROM:+0100
TZOFFSETTO:+0200
TZNAME:CEST
DTSTART:20250330T010000
END:DAYLIGHT
BEGIN:STANDARD
TZOFFSETFROM:+0200
TZOFFSETTO:+0100
TZNAME:CET
DTSTART:20251026T010000
END:STANDARD
BEGIN:DAYLIGHT
TZOFFSETFROM:+0100
TZOFFSETTO:+0200
TZNAME:CEST
DTSTART:20260329T010000
END:DAYLIGHT
BEGIN:STANDARD
TZOFFSETFROM:+0200
TZOFFSETTO:+0100
TZNAME:CET
DTSTART:20261025T010000
END:STANDARD
BEGIN:DAYLIGHT
TZOFFSETFROM:+0100
TZOFFSETTO:+0200
TZNAME:CEST
DTSTART:20270328T010000
END:DAYLIGHT
BEGIN:STANDARD
TZOFFSETFROM:+0200
TZOFFSETTO:+0100
TZNAME:CET
DTSTART:20271031T010000
END:STANDARD
END:VTIMEZONE
BEGIN:VEVENT
DTSTART;TZID=Europe/Berlin:20260523T110000
DTEND;TZID=Europe/Berlin:20260523T140000
DTSTAMP:20260426T060300
CREATED:20260205T223247Z
LAST-MODIFIED:20260205T223247Z
UID:125583-1779534000-1779544800@www.der-bottcast.de
SUMMARY:Stadtrundfahrt: Bottroper Süden
DESCRIPTION:Bottcast Stadtrundfahrt – Bottroper SüdenDer Bottcast lädt ein zur Stadtrundfahrt durch den Bottroper Süden – und ganz ehrlich: Da ist mehr los\, als man denkt. Mit den Bussen vom Reisedienst Fischer geht’s zwischen Kokerei und Kläranlage entlang\, vorbei an Faultürmen\, Richtung Alpincenter\, Indoor-Skydiving und Bernepark. Industrie\, Freizeit\, Natur – alles auf engstem Raum. Eine Tour voller Kontraste\, Geschichten und „Mein Gott\, was es hier alles gibt“. Typisch Bottrop\, typisch Bottcast. \nKarten gibt es für 20€ im Infopoint der Stadt Bottrop. Abfahrt ist am Gleiwitzer Platz um 11Uhr.
URL:https://www.der-bottcast.de/event/stadtrundfahrt-bottroper-sueden/
LOCATION:Gleiwitzer Platz
ATTACH;FMTTYPE=image/jpeg:https://www.der-bottcast.de/wp-content/uploads/2026/02/Stadtrundfahrt-Sueden.jpg
END:VEVENT
BEGIN:VEVENT
DTSTART;TZID=Europe/Berlin:20260620T110000
DTEND;TZID=Europe/Berlin:20260620T140000
DTSTAMP:20260426T060300
CREATED:20260319T180804Z
LAST-MODIFIED:20260320T075428Z
UID:125758-1781953200-1781964000@www.der-bottcast.de
SUMMARY:Stadtrundfahrt: Bottroper Fussball
DESCRIPTION:[vc_row][vc_column][vc_column_text uncode_shortcode_id=“165508″]Bottcast Stadtrundfahrt – Bottroper Fussball \nZum Stadtfest geht es wieder mit dem Bottcast und im Bus vom Reisedienst Fischer und Bedachungen Schnitter durch Bottrop. Diesmal zur Fussball Weltmeisterschaft zum Thema „Bottroper Fussball“. Mit Bierchen\, guter Laune und jeder Menge Highlights machen wir drei Stop auf den Fusballplätzen Bottrops. Welche werden noch nicht verraten aber das ist auch egal. Geil wird es auf jeden Fall. Und bereitet Euch auf ein Torwand schießen vor. \nKarten gibt es für 25€ im Infopoint der Stadt Bottrop. Abfahrt ist am Gleiwitzer Platz um 11Uhr.[/vc_column_text][/vc_column][/vc_row]
URL:https://www.der-bottcast.de/event/stadtrundfahrt-bottroper-fussball-2/
LOCATION:Gleiwitzer Platz
ATTACH;FMTTYPE=image/png:https://www.der-bottcast.de/wp-content/uploads/2026/03/8e0e43a5-7c98-481f-afd8-23167e4278fc.png
END:VEVENT
BEGIN:VEVENT
DTSTART;TZID=Europe/Berlin:20260621T110000
DTEND;TZID=Europe/Berlin:20260621T140000
DTSTAMP:20260426T060300
CREATED:20260319T181917Z
LAST-MODIFIED:20260320T080023Z
UID:125761-1782039600-1782050400@www.der-bottcast.de
SUMMARY:Stadtrundfahrt: BERGBAU
DESCRIPTION:[vc_row][vc_column][vc_column_text uncode_shortcode_id=“172852″]Bottcast Stadtrundfahrt – BERGBAU \nDie zweite Satdtrundfahrt zum Stadtfest und nach der hohen Nachfrage sehen wir uns ind er Pflicht erneut mit Euch auf die Spuren des Bergbaus zu gehen. Mit dem Reisedienst Fischer und Schnitter Bedachungen besuchen wir die Kumpels und Orte von damals und planen diesmal eine komplett neue Route für alle Wiederholungstäter. Und wie immer ist schnell sein angesagt. \nKarten gibt es für 25€ im Infopoint der Stadt Bottrop. Abfahrt ist am Gleiwitzer Platz um 11Uhr.[/vc_column_text][/vc_column][/vc_row]
URL:https://www.der-bottcast.de/event/stadtrundfahrt-bergbau-2/
LOCATION:Gleiwitzer Platz
ATTACH;FMTTYPE=image/png:https://www.der-bottcast.de/wp-content/uploads/2026/03/65792b99-e36d-4587-876c-f84d8f43b719.png
END:VEVENT
END:VCALENDAR